BEGIN:VCALENDAR
VERSION:2.0
PRODID:-//YourApp//Laravel//EN
BEGIN:VEVENT
UID:69e7459a4be9a
DTSTAMP:20260421T093834Z
DTSTART:20231031T150000Z
DTEND:20231031T160000Z
SUMMARY:Literatür Konuşmaları-1: Ekonomi
DESCRIPTION:<p>İSAR Araştırma Merkezi’nin çeşitli alanlardaki literatürün günümüzde nasıl geliştiğine odaklanan serisi Literatür Konuşmaları, ekonomi alanı ile başlıyor. İlk oturumda Dr. Öğretim Üyesi Mustafa Metin Başbay, ekonomi alanının güncel tartışmaları ve odak noktalarına dair bir sunum yapacak.</p>
<p></p>
<p>Konuşmacı Mustafa Metin Başbay, doktora eğitimini Cambridge Üniversitesi’nde tamamladı. Makroekonomi ve ekonomik kalkınma alanlarında akademik çalışmalarına devam etmekte.</p>
<p></p>
<p>Etkinlikle ilgili blog yazısına <a href=\"https://arastirma.isar.org.tr/metin-basbay-literatur-konusmalari-1-ekonomi/\">buradan</a> ulaşabilirsiniz.</p>
LOCATION:Özbekler Tekkesi
END:VEVENT
END:VCALENDAR
