BEGIN:VCALENDAR
VERSION:2.0
PRODID:-//YourApp//Laravel//EN
BEGIN:VEVENT
UID:69e5e1440b8c2
DTSTAMP:20260420T081812Z
DTSTART:20210105T150000Z
DTEND:20210105T160000Z
SUMMARY:Türkiye’de Proje Olanakları: İmkanlar ve Sınırlılıklar
DESCRIPTION:
LOCATION:Özbekler Tekkesi
END:VEVENT
END:VCALENDAR
