BEGIN:VCALENDAR
VERSION:2.0
PRODID:-//YourApp//Laravel//EN
BEGIN:VEVENT
UID:69e60faf4aed2
DTSTAMP:20260420T113615Z
DTSTART:20210810T140000Z
DTEND:20210810T150000Z
SUMMARY:19. Yüzyılın Son Dönemi Osmanlı İmparatorluğunda Siyasal Baskı
DESCRIPTION:
LOCATION:Özbekler Tekkesi
END:VEVENT
END:VCALENDAR
