BEGIN:VCALENDAR
VERSION:2.0
PRODID:-//YourApp//Laravel//EN
BEGIN:VEVENT
UID:69e611a647780
DTSTAMP:20260420T114438Z
DTSTART:20220329T153000Z
DTEND:20220329T160000Z
SUMMARY:\"Eşyanın Hakikati: Nefsü\'l-Emr ve Nesnel Hakikatın Metafizik Temelleri
DESCRIPTION:
LOCATION:İSAR
END:VEVENT
END:VCALENDAR
