BEGIN:VCALENDAR
VERSION:2.0
PRODID:-//YourApp//Laravel//EN
BEGIN:VEVENT
UID:69e5f80f275f8
DTSTAMP:20260420T095527Z
DTSTART:20221021T153000Z
DTEND:20221021T163000Z
SUMMARY:İslam İktisadı Bağlamında Türkiye\'de Vakıfların Ekonomisi
DESCRIPTION:
LOCATION:Özbekler Tekkesi
END:VEVENT
END:VCALENDAR
