BEGIN:VCALENDAR
VERSION:2.0
PRODID:-//YourApp//Laravel//EN
BEGIN:VEVENT
UID:69e89cb8d7c57
DTSTAMP:20260422T100232Z
DTSTART:20221223T153000Z
DTEND:20221223T170000Z
SUMMARY:Bir Dijital Tabakat: Ulema Veri Tabanı
DESCRIPTION:
LOCATION:Özbekler Tekkesi
END:VEVENT
END:VCALENDAR
