BEGIN:VCALENDAR
VERSION:2.0
PRODID:-//YourApp//Laravel//EN
BEGIN:VEVENT
UID:69e8bab3608a4
DTSTAMP:20260422T121027Z
DTSTART:20230523T170000Z
DTEND:20230523T180000Z
SUMMARY:Telif Hakkı ve İslam Hukuku: Hanefi Fakihlerinin Yaklaşımları
DESCRIPTION:
LOCATION:Çevrimiçi
END:VEVENT
END:VCALENDAR
