BEGIN:VCALENDAR
VERSION:2.0
PRODID:-//YourApp//Laravel//EN
BEGIN:VEVENT
UID:69e5f9d4cbe4d
DTSTAMP:20260420T100300Z
DTSTART:20241025T070000Z
DTEND:20241025T150000Z
SUMMARY:Fetva Mecmualarının Karşılaştırılmasında Yapay Zeka Yöntemlerinin Kullanılması
DESCRIPTION:
LOCATION:Özbekler Tekkesi
END:VEVENT
END:VCALENDAR
