BEGIN:VCALENDAR
VERSION:2.0
PRODID:-//YourApp//Laravel//EN
BEGIN:VEVENT
UID:69e5f9d6b597a
DTSTAMP:20260420T100302Z
DTSTART:20230823T170000Z
DTEND:20230823T180000Z
SUMMARY:İslamî Fikri Mülkiyet
DESCRIPTION:
LOCATION:Çevrimiçi
END:VEVENT
END:VCALENDAR
