BEGIN:VCALENDAR
VERSION:2.0
PRODID:-//YourApp//Laravel//EN
BEGIN:VEVENT
UID:69e5e364b90f6
DTSTAMP:20260420T082716Z
DTSTART:20230619T170000Z
DTEND:20230619T190000Z
SUMMARY:İslam Hukukunda Telif Hakkı
DESCRIPTION:
LOCATION:Çevrimiçi
END:VEVENT
END:VCALENDAR
