BEGIN:VCALENDAR
VERSION:2.0
PRODID:-//YourApp//Laravel//EN
BEGIN:VEVENT
UID:69e77fa3cefda
DTSTAMP:20260421T134611Z
DTSTART:20260407T150000Z
DTEND:20260407T170000Z
SUMMARY:LİTERATÜR KONUŞMALARI-15: OSMANLI BİLİM TARİHİ
DESCRIPTION:<p style=\"text-align: justify;\">İSAR Araştırma Merkezi olarak Literatür Konuşmaları serimize devam ediyoruz. \"Bilim Tarihi\" temalı 2026 Bahar döneminin ilk ve serimizin 15. oturumunda Boğaziçi Üniversitesi Tarih Bölümünden Hasan Umut\'u ağırlayacağız. \"Osmanlı Bilim Tarihi\" başlıklı bu oturumda sizleri de görmekten memnuniyet duyarız.</p>
<p style=\"text-align: justify;\"><a href=\"https://t.co/tuAOVzbwWb\" target=\"_blank\">Başvuru için tıklayınız...</a></p>
LOCATION:Özbekler Tekkesi
END:VEVENT
END:VCALENDAR
