BEGIN:VCALENDAR
VERSION:2.0
PRODID:-//YourApp//Laravel//EN
BEGIN:VEVENT
UID:69ea27af2ae79
DTSTAMP:20260423T140743Z
DTSTART:20260428T150000Z
DTEND:20260428T163000Z
SUMMARY:Yaratma Hermeneutiği: İslam Felsefesini Temellük Etme
DESCRIPTION:<p style=\"text-align: justify;\">İSAR Araştırma Merkezi’nin düzenlediği İhtisas Konuşmaları serisinin 57. oturumunda İstanbul 29 Mayıs Üniversitesi Felsefe Bölümü\'nden Selami Varlık\'ı ağırlayacağız.</p>
<p style=\"text-align: justify;\">Varlık bu konuşmasında, Bloomsbury Yayınları\'ndan henüz yayınlanan \"The Appropriation of Islamic Philosophy: Creation in Ricoeur and Avicenna\" (İslam Felsefesinin Temellükü: Ricoeur ve İbn Sina\'da Yaratma) başlıklı kitabını tanıtacak ve eserin problematiğini konuşma boyunca tartışacak.</p>
LOCATION:Özbekler Tekkesi
END:VEVENT
END:VCALENDAR
